BEGIN:VCALENDAR
VERSION:2.0
PRODID:-//Jägerverein Prättigau - ECPv6.15.20//NONSGML v1.0//EN
CALSCALE:GREGORIAN
METHOD:PUBLISH
X-WR-CALNAME:Jägerverein Prättigau
X-ORIGINAL-URL:https://jaegerverein-praettigau.ch
X-WR-CALDESC:Veranstaltungen für Jägerverein Prättigau
REFRESH-INTERVAL;VALUE=DURATION:PT1H
X-Robots-Tag:noindex
X-PUBLISHED-TTL:PT1H
BEGIN:VTIMEZONE
TZID:Europe/Berlin
BEGIN:DAYLIGHT
TZOFFSETFROM:+0100
TZOFFSETTO:+0200
TZNAME:CEST
DTSTART:20240331T010000
END:DAYLIGHT
BEGIN:STANDARD
TZOFFSETFROM:+0200
TZOFFSETTO:+0100
TZNAME:CET
DTSTART:20241027T010000
END:STANDARD
BEGIN:DAYLIGHT
TZOFFSETFROM:+0100
TZOFFSETTO:+0200
TZNAME:CEST
DTSTART:20250330T010000
END:DAYLIGHT
BEGIN:STANDARD
TZOFFSETFROM:+0200
TZOFFSETTO:+0100
TZNAME:CET
DTSTART:20251026T010000
END:STANDARD
BEGIN:DAYLIGHT
TZOFFSETFROM:+0100
TZOFFSETTO:+0200
TZNAME:CEST
DTSTART:20260329T010000
END:DAYLIGHT
BEGIN:STANDARD
TZOFFSETFROM:+0200
TZOFFSETTO:+0100
TZNAME:CET
DTSTART:20261025T010000
END:STANDARD
END:VTIMEZONE
BEGIN:VEVENT
DTSTART;TZID=Europe/Berlin:20250322T190000
DTEND;TZID=Europe/Berlin:20250322T233000
DTSTAMP:20260420T162359
CREATED:20250129T191237Z
LAST-MODIFIED:20250131T210140Z
UID:1178-1742670000-1742686200@jaegerverein-praettigau.ch
SUMMARY:Jägerabend Jägerverein Prättigau
DESCRIPTION:
URL:https://jaegerverein-praettigau.ch/veranstaltung/jaegerabend-und-trophaeenschau/
LOCATION:Mehrzweckhalle Seewis-Dorf\, Mehrzweckhalle\, Seewis-Dorf\, 7212\, Switzerland
END:VEVENT
END:VCALENDAR